View In:
ArcGIS JavaScript
ArcGIS Online Map Viewer
ArcGIS Earth
ArcMap
View Footprint In:
ArcGIS Online Map Viewer
Service Description: Orto 2018
Name: ORTO_2018
Description: Orto 2018
Single Fused Map Cache: false
Extent:
XMin: -60000.0
YMin: -182500.0
XMax: -56000.0
YMax: -180000.0
Spatial Reference: 3763
(3763)
LatestVCSWkid(0)
Initial Extent:
XMin: -60000.0
YMin: -182500.0
XMax: -56000.0
YMax: -180000.0
Spatial Reference: 3763
(3763)
LatestVCSWkid(0)
Full Extent:
XMin: -60000.0
YMin: -182500.0
XMax: -56000.0
YMax: -180000.0
Spatial Reference: 3763
(3763)
LatestVCSWkid(0)
Pixel Size X: 0.25
Pixel Size Y: 0.25
Band Count: 4
Pixel Type: U8
RasterFunction Infos: {"rasterFunctionInfos": [{
"name": "None",
"description": "",
"help": ""
}]}
Mensuration Capabilities: Basic
Has Histograms: true
Has Colormap: false
Has Multi Dimensions : false
Rendering Rule:
Min Scale: 0
Max Scale: 0
Copyright Text:
Service Data Type: esriImageServiceDataTypeGeneric
Min Values: 1, 1, 1, 0
Max Values: 255, 255, 255, 255
Mean Values: 91.7993874625, 87.036489425, 86.32144691875, 109.7606793
Standard Deviation Values: 40.863554353895054, 34.79546569869256, 30.822022496457905, 28.95218491373292
Object ID Field:
Fields:
None
Default Mosaic Method: Center
Allowed Mosaic Methods:
SortField:
SortValue: null
Mosaic Operator: First
Default Compression Quality: 75
Default Resampling Method: Bilinear
Max Record Count: null
Max Image Height: 4100
Max Image Width: 15000
Max Download Image Count: null
Max Mosaic Image Count: null
Allow Raster Function: true
Allow Copy: true
Allow Analysis: true
Allow Compute TiePoints: false
Supports Statistics: false
Supports Advanced Queries: false
Use StandardizedQueries: true
Raster Type Infos:
Name: Raster Dataset
Description: Supports all ArcGIS Raster Datasets
Help:
Has Raster Attribute Table: false
Edit Fields Info: null
Ownership Based AccessControl For Rasters: null
Child Resources:
Info
Histograms
Statistics
Key Properties
Legend
Raster Function Infos
Supported Operations:
Export Image
Identify
Measure
Compute Histograms
Compute Statistics Histograms
Get Samples
Compute Class Statistics
Query Boundary
Compute Pixel Location
Compute Angles
Validate
Project